BEGIN:VCALENDAR
VERSION:2.0
PRODID:spatie/icalendar-generator
DESCRIPTION:Events from Yoopers UNITE!
X-WR-CALDESC:Events from Yoopers UNITE!
REFRESH-INTERVAL;VALUE=DURATION:PT1440M
X-PUBLISHED-TTL:PT1440M
BEGIN:VTIMEZONE
TZID:America/Detroit
BEGIN:STANDARD
DTSTART:20251102T020000Z
TZOFFSETFROM:-0400
TZOFFSETTO:-0500
END:STANDARD
BEGIN:DAYLIGHT
DTSTART:20260308T020000Z
TZOFFSETFROM:-0500
TZOFFSETTO:-0400
END:DAYLIGHT
BEGIN:STANDARD
DTSTART:20261101T020000Z
TZOFFSETFROM:-0400
TZOFFSETTO:-0500
END:STANDARD
END:VTIMEZONE
BEGIN:VTIMEZONE
TZID:UTC
BEGIN:STANDARD
DTSTART:20250727T004823Z
TZOFFSETFROM:+0000
TZOFFSETTO:+0000
END:STANDARD
END:VTIMEZONE
BEGIN:VEVENT
UID:658-8
DTSTAMP:20260423T004823Z
SUMMARY:National Indivisible Zoom Call
LOCATION:
ORGANIZER;CN=Yoopers UNITE Web Admin:MAILTO:yoopersunite@pm.me
RRULE:FREQ=WEEKLY;UNTIL=20261231T000000Z
DTSTART;TZID=America/Detroit:20260702T150000
DTEND;TZID=America/Detroit:20260702T160000
X-ALT-DESC;FMTTYPE=TEXT/HTML:
CATEGORIES:Periodic Events,  National
URL;VALUE=URI:https://www.yoopersunite.org/mc-events/national-indivisible-z
 oom-call/?mc_id=658
METHOD:PUBLISH
END:VEVENT
END:VCALENDAR